BEGIN:VCALENDAR
VERSION:2.0
METHOD:PUBLISH
PRODID:-//imacoda.com//SPD-Web-O-Mat//EN
CALSCALE:GREGORIAN
BEGIN:VTIMEZONE
TZID:Europe/Berlin
BEGIN:DAYLIGHT
TZOFFSETFROM:+0100
RRULE:FREQ=YEARLY;BYMONTH=3;BYDAY=-1SU
DTSTART:19810329T020000
TZNAME:MESZ
TZOFFSETTO:+0200
END:DAYLIGHT
BEGIN:STANDARD
TZOFFSETFROM:+0200
RRULE:FREQ=YEARLY;BYMONTH=10;BYDAY=-1SU
DTSTART:19961027T030000
TZNAME:MEZ
TZOFFSETTO:+0100
END:STANDARD
END:VTIMEZONE
BEGIN:VEVENT
UID:20260122T214222Z-00001167300-LULU@www.bayernspd.de
CREATED:20260122T214222Z
LAST-MODIFIED:20260122T214827Z
DTSTAMP:20260122T214827Z
TRANSP:TRANSPARENT
DTSTART;TZID=Europe/Berlin:20260430T193000
DTEND;TZID=Europe/Berlin:20260430T220000
SUMMARY:Gemeinderatssitzung
LOCATION:Maria-Theresia-Straße 12A\, Utting 86919 Utting am Ammersee
DESCRIPTION:Termin im Web (SPD Utting):\nhttps://spd-utting.de/termine/?
 id=1167300
END:VEVENT
END:VCALENDAR
